BEGIN:VCALENDAR
VERSION:2.0
PRODID:-//Athemis//Events//EN
CALSCALE:GREGORIAN
X-WR-TIMEZONE:Europe/Zurich
BEGIN:VTIMEZONE
TZID:Europe/Zurich
X-LIC-LOCATION:Europe/Zurich
BEGIN:DAYLIGHT
TZOFFSETFROM:+0100
TZOFFSETTO:+0200
TZNAME:CEST
DTSTART:19700329T020000
RRULE:FREQ=YEARLY;BYMONTH=3;BYDAY=-1SU
END:DAYLIGHT
BEGIN:STANDARD
TZOFFSETFROM:+0200
TZOFFSETTO:+0100
TZNAME:CET
DTSTART:19701025T030000
RRULE:FREQ=YEARLY;BYMONTH=10;BYDAY=-1SU
END:STANDARD
END:VTIMEZONE
BEGIN:VEVENT
UID:03a6863c-4e12-4cfc-83ae-5c5ffcd7fccb
SUMMARY:LE JOUR DES MUSÉES
DESCRIPTION:
LOCATION:
DTSTART;TZID=Europe/Zurich:20250518T100000
DTSTAMP:20260419T184933Z
DTEND;TZID=Europe/Zurich:20250518T174500
END:VEVENT
END:VCALENDAR
