BEGIN:VCALENDAR
VERSION:2.0
PRODID:-//Athemis//Events//EN
CALSCALE:GREGORIAN
X-WR-TIMEZONE:Europe/Zurich
BEGIN:VTIMEZONE
TZID:Europe/Zurich
X-LIC-LOCATION:Europe/Zurich
BEGIN:DAYLIGHT
TZOFFSETFROM:+0100
TZOFFSETTO:+0200
TZNAME:CEST
DTSTART:19700329T020000
RRULE:FREQ=YEARLY;BYMONTH=3;BYDAY=-1SU
END:DAYLIGHT
BEGIN:STANDARD
TZOFFSETFROM:+0200
TZOFFSETTO:+0100
TZNAME:CET
DTSTART:19701025T030000
RRULE:FREQ=YEARLY;BYMONTH=10;BYDAY=-1SU
END:STANDARD
END:VTIMEZONE
BEGIN:VEVENT
UID:a631c14f-efe5-4503-846c-73912cd14ff9
SUMMARY:ATELIER DESSIN LIVREQUE &#8211; NATALI FORTIER
DESCRIPTION:
LOCATION:
DTSTART;TZID=Europe/Zurich:20240204T140000
DTSTAMP:20260420T083808Z
DTEND;TZID=Europe/Zurich:20240204T160000
END:VEVENT
END:VCALENDAR
