BEGIN:VCALENDAR
VERSION:2.0
PRODID:-//Athemis//Events//EN
CALSCALE:GREGORIAN
X-WR-TIMEZONE:Europe/Zurich
BEGIN:VTIMEZONE
TZID:Europe/Zurich
X-LIC-LOCATION:Europe/Zurich
BEGIN:DAYLIGHT
TZOFFSETFROM:+0100
TZOFFSETTO:+0200
TZNAME:CEST
DTSTART:19700329T020000
RRULE:FREQ=YEARLY;BYMONTH=3;BYDAY=-1SU
END:DAYLIGHT
BEGIN:STANDARD
TZOFFSETFROM:+0200
TZOFFSETTO:+0100
TZNAME:CET
DTSTART:19701025T030000
RRULE:FREQ=YEARLY;BYMONTH=10;BYDAY=-1SU
END:STANDARD
END:VTIMEZONE
BEGIN:VEVENT
UID:7aa575fc-5239-42ad-909f-29d01be6f804
SUMMARY:Conférence – Écosystèmes polaires il y a un demi-milliard d&rsquo;années
DESCRIPTION:
LOCATION:
DTSTART;TZID=Europe/Zurich:20250129T191500
DTSTAMP:20260423T131210Z
DTEND;TZID=Europe/Zurich:20250129T201500
END:VEVENT
END:VCALENDAR
