BEGIN:VCALENDAR
VERSION:2.0
PRODID:-//Athemis//Events//EN
CALSCALE:GREGORIAN
X-WR-TIMEZONE:Europe/Zurich
BEGIN:VTIMEZONE
TZID:Europe/Zurich
X-LIC-LOCATION:Europe/Zurich
BEGIN:DAYLIGHT
TZOFFSETFROM:+0100
TZOFFSETTO:+0200
TZNAME:CEST
DTSTART:19700329T020000
RRULE:FREQ=YEARLY;BYMONTH=3;BYDAY=-1SU
END:DAYLIGHT
BEGIN:STANDARD
TZOFFSETFROM:+0200
TZOFFSETTO:+0100
TZNAME:CET
DTSTART:19701025T030000
RRULE:FREQ=YEARLY;BYMONTH=10;BYDAY=-1SU
END:STANDARD
END:VTIMEZONE
BEGIN:VEVENT
UID:9a192195-72ff-4f0d-a4e5-f758d1e80180
SUMMARY:Conférence – Les travaux de régénération des tourbières de la Vallée des Ponts-de-Martel, 1990-2024
DESCRIPTION:
LOCATION:
DTSTART;TZID=Europe/Zurich:20250317T191500
DTSTAMP:20260421T160020Z
DTEND;TZID=Europe/Zurich:20250317T203000
END:VEVENT
END:VCALENDAR
