BEGIN:VCALENDAR
VERSION:2.0
PRODID:-//Athemis//Events//EN
CALSCALE:GREGORIAN
X-WR-TIMEZONE:Europe/Zurich
BEGIN:VTIMEZONE
TZID:Europe/Zurich
X-LIC-LOCATION:Europe/Zurich
BEGIN:DAYLIGHT
TZOFFSETFROM:+0100
TZOFFSETTO:+0200
TZNAME:CEST
DTSTART:19700329T020000
RRULE:FREQ=YEARLY;BYMONTH=3;BYDAY=-1SU
END:DAYLIGHT
BEGIN:STANDARD
TZOFFSETFROM:+0200
TZOFFSETTO:+0100
TZNAME:CET
DTSTART:19701025T030000
RRULE:FREQ=YEARLY;BYMONTH=10;BYDAY=-1SU
END:STANDARD
END:VTIMEZONE
BEGIN:VEVENT
UID:d3672e73-30d3-46d3-a233-d1d498f0bb27
SUMMARY:PROCÈS FICTIF PARTICIPATIF LA NATURE A-T-ELLE DES  DROITS ?
DESCRIPTION:
LOCATION:
DTSTART;TZID=Europe/Zurich:20260129T191500
DTSTAMP:20260423T131221Z
DTEND;TZID=Europe/Zurich:20260129T213000
END:VEVENT
END:VCALENDAR
